BEGIN:VCALENDAR
VERSION:2.0
PRODID:-//Cercle de Réparation Linguistique - ECPv6.15.11//NONSGML v1.0//EN
CALSCALE:GREGORIAN
METHOD:PUBLISH
X-ORIGINAL-URL:https://cercle-reparation-linguistique.com/
X-WR-CALDESC:Évènements pour Cercle de Réparation Linguistique
REFRESH-INTERVAL;VALUE=DURATION:PT1H
X-Robots-Tag:noindex
X-PUBLISHED-TTL:PT1H
BEGIN:VTIMEZONE
TZID:Europe/Paris
BEGIN:DAYLIGHT
TZOFFSETFROM:+0100
TZOFFSETTO:+0200
TZNAME:CEST
DTSTART:20240331T010000
END:DAYLIGHT
BEGIN:STANDARD
TZOFFSETFROM:+0200
TZOFFSETTO:+0100
TZNAME:CET
DTSTART:20241027T010000
END:STANDARD
BEGIN:DAYLIGHT
TZOFFSETFROM:+0100
TZOFFSETTO:+0200
TZNAME:CEST
DTSTART:20250330T010000
END:DAYLIGHT
BEGIN:STANDARD
TZOFFSETFROM:+0200
TZOFFSETTO:+0100
TZNAME:CET
DTSTART:20251026T010000
END:STANDARD
BEGIN:DAYLIGHT
TZOFFSETFROM:+0100
TZOFFSETTO:+0200
TZNAME:CEST
DTSTART:20260329T010000
END:DAYLIGHT
BEGIN:STANDARD
TZOFFSETFROM:+0200
TZOFFSETTO:+0100
TZNAME:CET
DTSTART:20261025T010000
END:STANDARD
END:VTIMEZONE
BEGIN:VEVENT
DTSTART;TZID=Europe/Paris:20250621T090000
DTEND;TZID=Europe/Paris:20250621T170000
DTSTAMP:20260419T192129
CREATED:20250611T084910Z
LAST-MODIFIED:20250611T084929Z
UID:1006-1750496400-1750525200@cercle-reparation-linguistique.com
SUMMARY:Cercle à Noirmoutier
DESCRIPTION:Session 1\, 2 et 3
URL:https://cercle-reparation-linguistique.com/evenement/noirmoutier-21-06-25/
LOCATION:Noirmoutier\, Noirmoutier\, Vendée\, 85330\, France
CATEGORIES:Noirmoutier
ORGANIZER;CN="Matyas":MAILTO:cerclelinguistique@gmail.com
END:VEVENT
BEGIN:VEVENT
DTSTART;TZID=Europe/Paris:20250522T100000
DTEND;TZID=Europe/Paris:20250522T130000
DTSTAMP:20260419T192129
CREATED:20250424T232535Z
LAST-MODIFIED:20250424T232712Z
UID:738-1747908000-1747918800@cercle-reparation-linguistique.com
SUMMARY:Noirmoutier - Session 3
DESCRIPTION:
URL:https://cercle-reparation-linguistique.com/evenement/noirmoutier-session-3/
LOCATION:Vendée
CATEGORIES:Noirmoutier,Session 3
END:VEVENT
BEGIN:VEVENT
DTSTART;TZID=Europe/Paris:20250521T150000
DTEND;TZID=Europe/Paris:20250521T180000
DTSTAMP:20260419T192129
CREATED:20250424T232306Z
LAST-MODIFIED:20250424T232306Z
UID:735-1747839600-1747850400@cercle-reparation-linguistique.com
SUMMARY:Noirmoutier - Session 2
DESCRIPTION:
URL:https://cercle-reparation-linguistique.com/evenement/noirmoutier-session-2-2/
LOCATION:Vendée
CATEGORIES:Noirmoutier,Session 2
END:VEVENT
BEGIN:VEVENT
DTSTART;TZID=Europe/Paris:20250521T100000
DTEND;TZID=Europe/Paris:20250521T130000
DTSTAMP:20260419T192129
CREATED:20250424T231303Z
LAST-MODIFIED:20250424T231303Z
UID:730-1747821600-1747832400@cercle-reparation-linguistique.com
SUMMARY:Noirmoutier - Session 1
DESCRIPTION:
URL:https://cercle-reparation-linguistique.com/evenement/noirmoutier-session-1-2/
LOCATION:Vendée
CATEGORIES:Noirmoutier,Session 1
END:VEVENT
BEGIN:VEVENT
DTSTART;TZID=Europe/Paris:20250501T090000
DTEND;TZID=Europe/Paris:20250501T120000
DTSTAMP:20260419T192129
CREATED:20250421T120753Z
LAST-MODIFIED:20250424T231658Z
UID:728-1746090000-1746100800@cercle-reparation-linguistique.com
SUMMARY:Session à Paris
DESCRIPTION:
URL:https://cercle-reparation-linguistique.com/evenement/session-paris-mai-2025/
LOCATION:Vendée
CATEGORIES:Paris
END:VEVENT
BEGIN:VEVENT
DTSTART;TZID=Europe/Paris:20250430T180000
DTEND;TZID=Europe/Paris:20250430T210000
DTSTAMP:20260419T192129
CREATED:20250421T120109Z
LAST-MODIFIED:20250424T231837Z
UID:725-1746036000-1746046800@cercle-reparation-linguistique.com
SUMMARY:Session à Paris
DESCRIPTION:
URL:https://cercle-reparation-linguistique.com/evenement/paris-avril-2025/
LOCATION:Vendée
CATEGORIES:Paris
END:VEVENT
BEGIN:VEVENT
DTSTART;TZID=Europe/Paris:20250418T090000
DTEND;TZID=Europe/Paris:20250418T120000
DTSTAMP:20260419T192129
CREATED:20250414T113155Z
LAST-MODIFIED:20250414T113155Z
UID:717-1744966800-1744977600@cercle-reparation-linguistique.com
SUMMARY:Noirmoutier - Session 1
DESCRIPTION:
URL:https://cercle-reparation-linguistique.com/evenement/noirmoutier-session-1/
LOCATION:Noirmoutier\, Noirmoutier\, Vendée\, 85330\, France
CATEGORIES:Noirmoutier,Session 1
ORGANIZER;CN="Matyas":MAILTO:cerclelinguistique@gmail.com
END:VEVENT
BEGIN:VEVENT
DTSTART;TZID=Europe/Paris:20250417T090000
DTEND;TZID=Europe/Paris:20250417T120000
DTSTAMP:20260419T192129
CREATED:20250414T113416Z
LAST-MODIFIED:20250414T113416Z
UID:719-1744880400-1744891200@cercle-reparation-linguistique.com
SUMMARY:Noirmoutier - Session 2
DESCRIPTION:
URL:https://cercle-reparation-linguistique.com/evenement/noirmoutier-session-2/
LOCATION:Vendée
CATEGORIES:Noirmoutier,Session 2
END:VEVENT
BEGIN:VEVENT
DTSTART;TZID=Europe/Paris:20250416T150000
DTEND;TZID=Europe/Paris:20250416T180000
DTSTAMP:20260419T192129
CREATED:20250408T101822Z
LAST-MODIFIED:20250408T103056Z
UID:656-1744815600-1744826400@cercle-reparation-linguistique.com
SUMMARY:Noirmoutier - Session 1
DESCRIPTION:
URL:https://cercle-reparation-linguistique.com/evenement/cercle-session-1/
LOCATION:Noirmoutier\, Noirmoutier\, Vendée\, 85330\, France
CATEGORIES:Noirmoutier,Session 1
ORGANIZER;CN="Matyas":MAILTO:cerclelinguistique@gmail.com
END:VEVENT
END:VCALENDAR